BEGIN:VCALENDAR
VERSION:2.0
PRODID:-//Santa Maria Foursquare Church (NOW VIDA CHURCH) - ECPv6.15.20//NONSGML v1.0//EN
CALSCALE:GREGORIAN
METHOD:PUBLISH
X-ORIGINAL-URL:https://sm4.org
X-WR-CALDESC:Events for Santa Maria Foursquare Church (NOW VIDA CHURCH)
REFRESH-INTERVAL;VALUE=DURATION:PT1H
X-Robots-Tag:noindex
X-PUBLISHED-TTL:PT1H
BEGIN:VTIMEZONE
TZID:America/Los_Angeles
BEGIN:DAYLIGHT
TZOFFSETFROM:-0800
TZOFFSETTO:-0700
TZNAME:PDT
DTSTART:20250309T100000
END:DAYLIGHT
BEGIN:STANDARD
TZOFFSETFROM:-0700
TZOFFSETTO:-0800
TZNAME:PST
DTSTART:20251102T090000
END:STANDARD
BEGIN:DAYLIGHT
TZOFFSETFROM:-0800
TZOFFSETTO:-0700
TZNAME:PDT
DTSTART:20260308T100000
END:DAYLIGHT
BEGIN:STANDARD
TZOFFSETFROM:-0700
TZOFFSETTO:-0800
TZNAME:PST
DTSTART:20261101T090000
END:STANDARD
BEGIN:DAYLIGHT
TZOFFSETFROM:-0800
TZOFFSETTO:-0700
TZNAME:PDT
DTSTART:20270314T100000
END:DAYLIGHT
BEGIN:STANDARD
TZOFFSETFROM:-0700
TZOFFSETTO:-0800
TZNAME:PST
DTSTART:20271107T090000
END:STANDARD
END:VTIMEZONE
BEGIN:VEVENT
DTSTART;TZID=America/Los_Angeles:20260406T180000
DTEND;TZID=America/Los_Angeles:20260406T190000
DTSTAMP:20260422T134817
CREATED:20240227T204939Z
LAST-MODIFIED:20240227T204939Z
UID:10006987-1775498400-1775502000@sm4.org
SUMMARY:260 Group – Men
DESCRIPTION:Jesus-Centered Politics					\n					Jesus-Centered Politics: It's About My Heart!\n				\n				\n					\n						\n							Play Episode\n						\n						\n							Pause Episode\n						\n						\n					\n					\n						\n							\n						\n						\n							\n						\n						\n							\n								\n									Mute/Unmute Episode\n								\n								\n									Rewind 10 Seconds\n								\n								1x\n								\n									Fast Forward 30 seconds\n								\n							\n							\n								00:00\n								/\n								\n								\n							\n						\n					\n				\n									\n													Subscribe\n																			Share\n											\n							\n		\n	\n			\n							\n					\n						\n						\n					\n					\n						\n													\n						\n							RSS Feed\n							\n								\n							\n							\n						\n					\n				\n										\n					\n						\n						\n					\n					\n						\n							Share						\n						\n							\n								\n							\n							\n								\n							\n							\n								\n							\n						\n					\n					\n						\n							Link						\n						\n							\n						\n						\n					\n					\n						\n							Embed						\n						\n							\n						\n						\n					\n				\n					\n	\n	\n\n	\nDownload file | Play in new window | Recorded on September 15\, 2024 Join us for a discussion of our 260 Bible reading! CLICK HERE to for more information on 260\, including a downloadable Bible reading plan. \nWe have several 260 groups to choose from. This one is specifically for men and is led by Danny Castillo. We meet each Monday at 6 PM\, in the Curryer Room at SM4. You do not need to register in advance — just join in! For more details or questions\, CLICK HERE.
URL:https://sm4.org/event/260-group-men-4/2026-04-06/
LOCATION:Vida Church\, 709 N. Curryer St.\, Santa Maria\, CA\, 93458\, United States
CATEGORIES:260,260 Group,Men
GEO:34.9596079;-120.4419292
X-APPLE-STRUCTURED-LOCATION;VALUE=URI;X-ADDRESS=Vida Church 709 N. Curryer St. Santa Maria CA 93458 United States;X-APPLE-RADIUS=500;X-TITLE=709 N. Curryer St.:geo:-120.4419292,34.9596079
END:VEVENT
BEGIN:VEVENT
DTSTART;TZID=America/Los_Angeles:20260406T190000
DTEND;TZID=America/Los_Angeles:20260406T200000
DTSTAMP:20260422T134817
CREATED:20240202T173853Z
LAST-MODIFIED:20240227T205426Z
UID:10007251-1775502000-1775505600@sm4.org
SUMMARY:260 Group – Everyone in the Workplace
DESCRIPTION:Jesus-Centered Politics					\n					Jesus-Centered Politics: It's About My Heart!\n				\n				\n					\n						\n							Play Episode\n						\n						\n							Pause Episode\n						\n						\n					\n					\n						\n							\n						\n						\n							\n						\n						\n							\n								\n									Mute/Unmute Episode\n								\n								\n									Rewind 10 Seconds\n								\n								1x\n								\n									Fast Forward 30 seconds\n								\n							\n							\n								00:00\n								/\n								\n								\n							\n						\n					\n				\n									\n													Subscribe\n																			Share\n											\n							\n		\n	\n			\n							\n					\n						\n						\n					\n					\n						\n													\n						\n							RSS Feed\n							\n								\n							\n							\n						\n					\n				\n										\n					\n						\n						\n					\n					\n						\n							Share						\n						\n							\n								\n							\n							\n								\n							\n							\n								\n							\n						\n					\n					\n						\n							Link						\n						\n							\n						\n						\n					\n					\n						\n							Embed						\n						\n							\n						\n						\n					\n				\n					\n	\n	\n\n	\nDownload file | Play in new window | Recorded on September 15\, 2024 Join us for a discussion of our 260 Bible reading! CLICK HERE to for more information on 260\, including a downloadable Bible reading plan. \nWe have several 260 groups to choose from. This one is specifically for people in the workplace and is led by Kevin & Christie Donnelly. We meet each Monday at 7 PM\, in the Donnelly’s home. You do not need to register in advance — just join in! For more details or questions\, CLICK HERE.
URL:https://sm4.org/event/260-group-everyone-in-the-workplace/2026-04-06/
CATEGORIES:260,260 Group,All Church
END:VEVENT
END:VCALENDAR