BEGIN:VCALENDAR
VERSION:2.0
PRODID:-//Santa Maria Foursquare Church (NOW VIDA CHURCH) - ECPv6.15.20//NONSGML v1.0//EN
CALSCALE:GREGORIAN
METHOD:PUBLISH
X-WR-CALNAME:Santa Maria Foursquare Church (NOW VIDA CHURCH)
X-ORIGINAL-URL:https://sm4.org
X-WR-CALDESC:Events for Santa Maria Foursquare Church (NOW VIDA CHURCH)
REFRESH-INTERVAL;VALUE=DURATION:PT1H
X-Robots-Tag:noindex
X-PUBLISHED-TTL:PT1H
BEGIN:VTIMEZONE
TZID:America/Los_Angeles
BEGIN:DAYLIGHT
TZOFFSETFROM:-0800
TZOFFSETTO:-0700
TZNAME:PDT
DTSTART:20250309T100000
END:DAYLIGHT
BEGIN:STANDARD
TZOFFSETFROM:-0700
TZOFFSETTO:-0800
TZNAME:PST
DTSTART:20251102T090000
END:STANDARD
BEGIN:DAYLIGHT
TZOFFSETFROM:-0800
TZOFFSETTO:-0700
TZNAME:PDT
DTSTART:20260308T100000
END:DAYLIGHT
BEGIN:STANDARD
TZOFFSETFROM:-0700
TZOFFSETTO:-0800
TZNAME:PST
DTSTART:20261101T090000
END:STANDARD
BEGIN:DAYLIGHT
TZOFFSETFROM:-0800
TZOFFSETTO:-0700
TZNAME:PDT
DTSTART:20270314T100000
END:DAYLIGHT
BEGIN:STANDARD
TZOFFSETFROM:-0700
TZOFFSETTO:-0800
TZNAME:PST
DTSTART:20271107T090000
END:STANDARD
END:VTIMEZONE
BEGIN:VEVENT
DTSTART;TZID=America/Los_Angeles:20260422T180000
DTEND;TZID=America/Los_Angeles:20260422T193000
DTSTAMP:20260425T071826
CREATED:20240605T233155Z
LAST-MODIFIED:20250714T165634Z
UID:10008024-1776880800-1776886200@sm4.org
SUMMARY:Live Up Youth
DESCRIPTION:Santa Maria Foursquare Church					\n					The Promise: Stomping Out Hell\n				\n				\n					\n						\n							Play Episode\n						\n						\n							Pause Episode\n						\n						\n					\n					\n						\n							\n						\n						\n							\n						\n						\n							\n								\n									Mute/Unmute Episode\n								\n								\n									Rewind 10 Seconds\n								\n								1x\n								\n									Fast Forward 30 seconds\n								\n							\n							\n								00:00\n								/\n								\n								\n							\n						\n					\n				\n									\n													Subscribe\n																			Share\n											\n							\n		\n	\n			\n							\n					\n						\n						\n					\n					\n						\n													\n						\n							RSS Feed\n							\n								\n							\n							\n						\n					\n				\n										\n					\n						\n						\n					\n					\n						\n							Share						\n						\n							\n								\n							\n							\n								\n							\n							\n								\n							\n						\n					\n					\n						\n							Link						\n						\n							\n						\n						\n					\n					\n						\n							Embed						\n						\n							\n						\n						\n					\n				\n					\n	\n	\n\n	\nDownload file | Play in new window | Recorded on August 18\, 2024 Our youth group\, Live Up\, meets every Wednesday evening\, from 6-7:30pm. Each gathering begins with dinner\, followed by fun games\, opportunities to get to know one another better and ways to discover new things about Jesus! It’s a great way to make friends and grow as followers of Jesus. Join us if you are in 7th – 12th grade. Find us in the Live Up room\, located in the building next to the playground!
URL:https://sm4.org/event/live-up-youth/2026-04-22/
LOCATION:Vida Church\, 709 N. Curryer St.\, Santa Maria\, CA\, 93458\, United States
CATEGORIES:Live Up,Youth
GEO:34.9596079;-120.4419292
X-APPLE-STRUCTURED-LOCATION;VALUE=URI;X-ADDRESS=Vida Church 709 N. Curryer St. Santa Maria CA 93458 United States;X-APPLE-RADIUS=500;X-TITLE=709 N. Curryer St.:geo:-120.4419292,34.9596079
END:VEVENT
END:VCALENDAR