BEGIN:VCALENDAR
VERSION:2.0
PRODID:-//Santa Maria Foursquare Church - ECPv6.15.20//NONSGML v1.0//EN
CALSCALE:GREGORIAN
METHOD:PUBLISH
X-WR-CALNAME:Santa Maria Foursquare Church
X-ORIGINAL-URL:https://sm4.org
X-WR-CALDESC:Eventos para Santa Maria Foursquare Church
REFRESH-INTERVAL;VALUE=DURATION:PT1H
X-Robots-Tag:noindex
X-PUBLISHED-TTL:PT1H
BEGIN:VTIMEZONE
TZID:America/Los_Angeles
BEGIN:DAYLIGHT
TZOFFSETFROM:-0800
TZOFFSETTO:-0700
TZNAME:PDT
DTSTART:20250309T100000
END:DAYLIGHT
BEGIN:STANDARD
TZOFFSETFROM:-0700
TZOFFSETTO:-0800
TZNAME:PST
DTSTART:20251102T090000
END:STANDARD
BEGIN:DAYLIGHT
TZOFFSETFROM:-0800
TZOFFSETTO:-0700
TZNAME:PDT
DTSTART:20260308T100000
END:DAYLIGHT
BEGIN:STANDARD
TZOFFSETFROM:-0700
TZOFFSETTO:-0800
TZNAME:PST
DTSTART:20261101T090000
END:STANDARD
BEGIN:DAYLIGHT
TZOFFSETFROM:-0800
TZOFFSETTO:-0700
TZNAME:PDT
DTSTART:20270314T100000
END:DAYLIGHT
BEGIN:STANDARD
TZOFFSETFROM:-0700
TZOFFSETTO:-0800
TZNAME:PST
DTSTART:20271107T090000
END:STANDARD
END:VTIMEZONE
BEGIN:VEVENT
DTSTART;TZID=America/Los_Angeles:20260304T180000
DTEND;TZID=America/Los_Angeles:20260304T190000
DTSTAMP:20260421T050017
CREATED:20240611T234951Z
LAST-MODIFIED:20240611T235016Z
UID:10009330-1772647200-1772650800@sm4.org
SUMMARY:Oración los Miércoles
DESCRIPTION:Cada Miércoles\, de 6PM a 7PM\, nos reunimos en el Santuario de la iglesia por una hora de oración. Durante esta hora\, estamos clamando a Dios para que mande su fuego sobre nuestros corazones\, nuestros hogares\, nuestra iglesia\, y nuestra region. Unete a nosotros!
URL:https://sm4.org/event/oracion-los-miercoles-2/2026-03-04/
END:VEVENT
BEGIN:VEVENT
DTSTART;TZID=America/Los_Angeles:20260304T180000
DTEND;TZID=America/Los_Angeles:20260304T193000
DTSTAMP:20260421T050017
CREATED:20240611T235436Z
LAST-MODIFIED:20240611T235436Z
UID:10009593-1772647200-1772652600@sm4.org
SUMMARY:Grupo de Jóvenes Live Up
DESCRIPTION:Nuestro grupo de jóvenes\, Live Up\, para estudiantes de grados 7 al 12 están invitados a reunirse cada Miércoles de 6pm-7:30pm. Estas reuniones siempre empiezan con una cena\, juegos divertidos\, oportunidades de ser amigos y conocernos más\, y descubrimientos nuevas acerca de Dios y su palabra y propósito para nuestras vidas. Unete a nosotros cada Miércoles en el cuarto Live Up\, que se encuentra en el edificio atrás de la iglesia\, junto al parque.
URL:https://sm4.org/event/grupo-de-jovenes-live-up/2026-03-04/
END:VEVENT
BEGIN:VEVENT
DTSTART;TZID=America/Los_Angeles:20260305T090000
DTEND;TZID=America/Los_Angeles:20260305T100000
DTSTAMP:20260421T050017
CREATED:20240612T171611Z
LAST-MODIFIED:20240612T171743Z
UID:10009860-1772701200-1772704800@sm4.org
SUMMARY:Grupo 260 – Mujeres
DESCRIPTION:¡Únete a nosotros para discutir nuestra lectura bíblica 260! HAZ CLIC AQUÍ para obtener más información sobre el plan 260\, incluyendo un plan de lectura bíblica descargable. \nTenemos varios grupos 260 para elegir. Este grupo esta abierto específicamente para mujeres y está dirigido por Rose Podsednik. Nos reunimos cada jueves a las 9am en la casa de Rose. No es necesario registrarte\, ¡solo únete con nosotros! Para obtener más detalles o preguntas\, HAZ CLIC AQUÍ.
URL:https://sm4.org/event/grupo-260-mujeres-7-2/2026-03-05/
END:VEVENT
BEGIN:VEVENT
DTSTART;TZID=America/Los_Angeles:20260307T170000
DTEND;TZID=America/Los_Angeles:20260307T180000
DTSTAMP:20260421T050017
CREATED:20240612T172156Z
LAST-MODIFIED:20240612T172223Z
UID:10010123-1772902800-1772906400@sm4.org
SUMMARY:Grupos 260 – Todos
DESCRIPTION:¡Únete a nosotros para discutir nuestra lectura bíblica 260! HAZ CLIC AQUÍ para obtener más información sobre el plan 260\, incluyendo un plan de lectura bíblica descargable. \nTenemos varios grupos 260 para elegir. Este grupo esta abierto para todos y está dirigido por Malena Rodriguez. Nos reunimos cada sábado a las 5pm en la casa de Malena. No es necesario registrarte\, ¡solo únete con nosotros! Para obtener más detalles o preguntas\, HAZ CLIC AQUÍ.
URL:https://sm4.org/event/grupos-260-todos-5/2026-03-07/
END:VEVENT
BEGIN:VEVENT
DTSTART;TZID=America/Los_Angeles:20260308T113000
DTEND;TZID=America/Los_Angeles:20260308T130000
DTSTAMP:20260421T050017
CREATED:20230822T225435Z
LAST-MODIFIED:20230822T230040Z
UID:10006126-1772969400-1772974800@sm4.org
SUMMARY:Reunión Los Domingos - Español
DESCRIPTION:¡Únese a nosotros este domingo! Nos reunimos a las 9:30 am en inglés y nuevamente a las 11:30 am en español. Cada semana adoramos con canciones\, estudiamos la Biblia y tenemos la oportunidad de oración personal y ministerio\, ADEMÁS\, tenemos grandes cosas para sus hijos en cada servicio\, desde el nacimiento hasta el sexto grado. \nTenemos tres formas de participar: \n\nAdentro — en nuestro Santuario\nAl aire libre — en nuestro Patio\nEn línea — HAGA CLIC AQUÍ para transmitir en vivo nuestras reuniones o mirar a pedido cuando le convenga\n\nSi se reúne con nosotros en persona\, únase a nosotros antes de nuestros servicios para tomar café y donas. Se sirven de 11:00 a 11:25 am de forma gratuita en el Patio. 🍩+☕️=😁❤️ \nSi es su primera vez con nosotros\, HAGA CLIC AQUÍ para obtener aún más detalles sobre nuestras reuniones\, incluida la forma en que cuidamos a los niños en nuestro ministerio Safari Kids. ¡Estamos deseando conocerte!
URL:https://sm4.org/event/reunion-los-domingos-espanol/2026-03-08/
ATTACH;FMTTYPE=image/jpeg:https://sm4.org/wp-content/uploads/2018/05/05.jpg
END:VEVENT
BEGIN:VEVENT
DTSTART;TZID=America/Los_Angeles:20260311T180000
DTEND;TZID=America/Los_Angeles:20260311T190000
DTSTAMP:20260421T050017
CREATED:20240611T234951Z
LAST-MODIFIED:20240611T235016Z
UID:10009331-1773252000-1773255600@sm4.org
SUMMARY:Oración los Miércoles
DESCRIPTION:Cada Miércoles\, de 6PM a 7PM\, nos reunimos en el Santuario de la iglesia por una hora de oración. Durante esta hora\, estamos clamando a Dios para que mande su fuego sobre nuestros corazones\, nuestros hogares\, nuestra iglesia\, y nuestra region. Unete a nosotros!
URL:https://sm4.org/event/oracion-los-miercoles-2/2026-03-11/
END:VEVENT
BEGIN:VEVENT
DTSTART;TZID=America/Los_Angeles:20260311T180000
DTEND;TZID=America/Los_Angeles:20260311T193000
DTSTAMP:20260421T050017
CREATED:20240611T235436Z
LAST-MODIFIED:20240611T235436Z
UID:10009594-1773252000-1773257400@sm4.org
SUMMARY:Grupo de Jóvenes Live Up
DESCRIPTION:Nuestro grupo de jóvenes\, Live Up\, para estudiantes de grados 7 al 12 están invitados a reunirse cada Miércoles de 6pm-7:30pm. Estas reuniones siempre empiezan con una cena\, juegos divertidos\, oportunidades de ser amigos y conocernos más\, y descubrimientos nuevas acerca de Dios y su palabra y propósito para nuestras vidas. Unete a nosotros cada Miércoles en el cuarto Live Up\, que se encuentra en el edificio atrás de la iglesia\, junto al parque.
URL:https://sm4.org/event/grupo-de-jovenes-live-up/2026-03-11/
END:VEVENT
BEGIN:VEVENT
DTSTART;TZID=America/Los_Angeles:20260312T090000
DTEND;TZID=America/Los_Angeles:20260312T100000
DTSTAMP:20260421T050017
CREATED:20240612T171611Z
LAST-MODIFIED:20240612T171743Z
UID:10009861-1773306000-1773309600@sm4.org
SUMMARY:Grupo 260 – Mujeres
DESCRIPTION:¡Únete a nosotros para discutir nuestra lectura bíblica 260! HAZ CLIC AQUÍ para obtener más información sobre el plan 260\, incluyendo un plan de lectura bíblica descargable. \nTenemos varios grupos 260 para elegir. Este grupo esta abierto específicamente para mujeres y está dirigido por Rose Podsednik. Nos reunimos cada jueves a las 9am en la casa de Rose. No es necesario registrarte\, ¡solo únete con nosotros! Para obtener más detalles o preguntas\, HAZ CLIC AQUÍ.
URL:https://sm4.org/event/grupo-260-mujeres-7-2/2026-03-12/
END:VEVENT
BEGIN:VEVENT
DTSTART;TZID=America/Los_Angeles:20260314T170000
DTEND;TZID=America/Los_Angeles:20260314T180000
DTSTAMP:20260421T050017
CREATED:20240612T172156Z
LAST-MODIFIED:20240612T172223Z
UID:10010124-1773507600-1773511200@sm4.org
SUMMARY:Grupos 260 – Todos
DESCRIPTION:¡Únete a nosotros para discutir nuestra lectura bíblica 260! HAZ CLIC AQUÍ para obtener más información sobre el plan 260\, incluyendo un plan de lectura bíblica descargable. \nTenemos varios grupos 260 para elegir. Este grupo esta abierto para todos y está dirigido por Malena Rodriguez. Nos reunimos cada sábado a las 5pm en la casa de Malena. No es necesario registrarte\, ¡solo únete con nosotros! Para obtener más detalles o preguntas\, HAZ CLIC AQUÍ.
URL:https://sm4.org/event/grupos-260-todos-5/2026-03-14/
END:VEVENT
BEGIN:VEVENT
DTSTART;TZID=America/Los_Angeles:20260315T113000
DTEND;TZID=America/Los_Angeles:20260315T130000
DTSTAMP:20260421T050017
CREATED:20230822T225435Z
LAST-MODIFIED:20230822T230040Z
UID:10006127-1773574200-1773579600@sm4.org
SUMMARY:Reunión Los Domingos - Español
DESCRIPTION:¡Únese a nosotros este domingo! Nos reunimos a las 9:30 am en inglés y nuevamente a las 11:30 am en español. Cada semana adoramos con canciones\, estudiamos la Biblia y tenemos la oportunidad de oración personal y ministerio\, ADEMÁS\, tenemos grandes cosas para sus hijos en cada servicio\, desde el nacimiento hasta el sexto grado. \nTenemos tres formas de participar: \n\nAdentro — en nuestro Santuario\nAl aire libre — en nuestro Patio\nEn línea — HAGA CLIC AQUÍ para transmitir en vivo nuestras reuniones o mirar a pedido cuando le convenga\n\nSi se reúne con nosotros en persona\, únase a nosotros antes de nuestros servicios para tomar café y donas. Se sirven de 11:00 a 11:25 am de forma gratuita en el Patio. 🍩+☕️=😁❤️ \nSi es su primera vez con nosotros\, HAGA CLIC AQUÍ para obtener aún más detalles sobre nuestras reuniones\, incluida la forma en que cuidamos a los niños en nuestro ministerio Safari Kids. ¡Estamos deseando conocerte!
URL:https://sm4.org/event/reunion-los-domingos-espanol/2026-03-15/
ATTACH;FMTTYPE=image/jpeg:https://sm4.org/wp-content/uploads/2018/05/05.jpg
END:VEVENT
BEGIN:VEVENT
DTSTART;TZID=America/Los_Angeles:20260318T180000
DTEND;TZID=America/Los_Angeles:20260318T190000
DTSTAMP:20260421T050017
CREATED:20240611T234951Z
LAST-MODIFIED:20240611T235016Z
UID:10009332-1773856800-1773860400@sm4.org
SUMMARY:Oración los Miércoles
DESCRIPTION:Cada Miércoles\, de 6PM a 7PM\, nos reunimos en el Santuario de la iglesia por una hora de oración. Durante esta hora\, estamos clamando a Dios para que mande su fuego sobre nuestros corazones\, nuestros hogares\, nuestra iglesia\, y nuestra region. Unete a nosotros!
URL:https://sm4.org/event/oracion-los-miercoles-2/2026-03-18/
END:VEVENT
BEGIN:VEVENT
DTSTART;TZID=America/Los_Angeles:20260318T180000
DTEND;TZID=America/Los_Angeles:20260318T193000
DTSTAMP:20260421T050017
CREATED:20240611T235436Z
LAST-MODIFIED:20240611T235436Z
UID:10009595-1773856800-1773862200@sm4.org
SUMMARY:Grupo de Jóvenes Live Up
DESCRIPTION:Nuestro grupo de jóvenes\, Live Up\, para estudiantes de grados 7 al 12 están invitados a reunirse cada Miércoles de 6pm-7:30pm. Estas reuniones siempre empiezan con una cena\, juegos divertidos\, oportunidades de ser amigos y conocernos más\, y descubrimientos nuevas acerca de Dios y su palabra y propósito para nuestras vidas. Unete a nosotros cada Miércoles en el cuarto Live Up\, que se encuentra en el edificio atrás de la iglesia\, junto al parque.
URL:https://sm4.org/event/grupo-de-jovenes-live-up/2026-03-18/
END:VEVENT
BEGIN:VEVENT
DTSTART;TZID=America/Los_Angeles:20260319T090000
DTEND;TZID=America/Los_Angeles:20260319T100000
DTSTAMP:20260421T050017
CREATED:20240612T171611Z
LAST-MODIFIED:20240612T171743Z
UID:10009862-1773910800-1773914400@sm4.org
SUMMARY:Grupo 260 – Mujeres
DESCRIPTION:¡Únete a nosotros para discutir nuestra lectura bíblica 260! HAZ CLIC AQUÍ para obtener más información sobre el plan 260\, incluyendo un plan de lectura bíblica descargable. \nTenemos varios grupos 260 para elegir. Este grupo esta abierto específicamente para mujeres y está dirigido por Rose Podsednik. Nos reunimos cada jueves a las 9am en la casa de Rose. No es necesario registrarte\, ¡solo únete con nosotros! Para obtener más detalles o preguntas\, HAZ CLIC AQUÍ.
URL:https://sm4.org/event/grupo-260-mujeres-7-2/2026-03-19/
END:VEVENT
BEGIN:VEVENT
DTSTART;TZID=America/Los_Angeles:20260321T170000
DTEND;TZID=America/Los_Angeles:20260321T180000
DTSTAMP:20260421T050017
CREATED:20240612T172156Z
LAST-MODIFIED:20240612T172223Z
UID:10010125-1774112400-1774116000@sm4.org
SUMMARY:Grupos 260 – Todos
DESCRIPTION:¡Únete a nosotros para discutir nuestra lectura bíblica 260! HAZ CLIC AQUÍ para obtener más información sobre el plan 260\, incluyendo un plan de lectura bíblica descargable. \nTenemos varios grupos 260 para elegir. Este grupo esta abierto para todos y está dirigido por Malena Rodriguez. Nos reunimos cada sábado a las 5pm en la casa de Malena. No es necesario registrarte\, ¡solo únete con nosotros! Para obtener más detalles o preguntas\, HAZ CLIC AQUÍ.
URL:https://sm4.org/event/grupos-260-todos-5/2026-03-21/
END:VEVENT
BEGIN:VEVENT
DTSTART;TZID=America/Los_Angeles:20260322T113000
DTEND;TZID=America/Los_Angeles:20260322T130000
DTSTAMP:20260421T050017
CREATED:20230822T225435Z
LAST-MODIFIED:20230822T230040Z
UID:10006128-1774179000-1774184400@sm4.org
SUMMARY:Reunión Los Domingos - Español
DESCRIPTION:¡Únese a nosotros este domingo! Nos reunimos a las 9:30 am en inglés y nuevamente a las 11:30 am en español. Cada semana adoramos con canciones\, estudiamos la Biblia y tenemos la oportunidad de oración personal y ministerio\, ADEMÁS\, tenemos grandes cosas para sus hijos en cada servicio\, desde el nacimiento hasta el sexto grado. \nTenemos tres formas de participar: \n\nAdentro — en nuestro Santuario\nAl aire libre — en nuestro Patio\nEn línea — HAGA CLIC AQUÍ para transmitir en vivo nuestras reuniones o mirar a pedido cuando le convenga\n\nSi se reúne con nosotros en persona\, únase a nosotros antes de nuestros servicios para tomar café y donas. Se sirven de 11:00 a 11:25 am de forma gratuita en el Patio. 🍩+☕️=😁❤️ \nSi es su primera vez con nosotros\, HAGA CLIC AQUÍ para obtener aún más detalles sobre nuestras reuniones\, incluida la forma en que cuidamos a los niños en nuestro ministerio Safari Kids. ¡Estamos deseando conocerte!
URL:https://sm4.org/event/reunion-los-domingos-espanol/2026-03-22/
ATTACH;FMTTYPE=image/jpeg:https://sm4.org/wp-content/uploads/2018/05/05.jpg
END:VEVENT
BEGIN:VEVENT
DTSTART;TZID=America/Los_Angeles:20260325T180000
DTEND;TZID=America/Los_Angeles:20260325T190000
DTSTAMP:20260421T050017
CREATED:20240611T234951Z
LAST-MODIFIED:20240611T235016Z
UID:10009333-1774461600-1774465200@sm4.org
SUMMARY:Oración los Miércoles
DESCRIPTION:Cada Miércoles\, de 6PM a 7PM\, nos reunimos en el Santuario de la iglesia por una hora de oración. Durante esta hora\, estamos clamando a Dios para que mande su fuego sobre nuestros corazones\, nuestros hogares\, nuestra iglesia\, y nuestra region. Unete a nosotros!
URL:https://sm4.org/event/oracion-los-miercoles-2/2026-03-25/
END:VEVENT
BEGIN:VEVENT
DTSTART;TZID=America/Los_Angeles:20260325T180000
DTEND;TZID=America/Los_Angeles:20260325T193000
DTSTAMP:20260421T050017
CREATED:20240611T235436Z
LAST-MODIFIED:20240611T235436Z
UID:10009596-1774461600-1774467000@sm4.org
SUMMARY:Grupo de Jóvenes Live Up
DESCRIPTION:Nuestro grupo de jóvenes\, Live Up\, para estudiantes de grados 7 al 12 están invitados a reunirse cada Miércoles de 6pm-7:30pm. Estas reuniones siempre empiezan con una cena\, juegos divertidos\, oportunidades de ser amigos y conocernos más\, y descubrimientos nuevas acerca de Dios y su palabra y propósito para nuestras vidas. Unete a nosotros cada Miércoles en el cuarto Live Up\, que se encuentra en el edificio atrás de la iglesia\, junto al parque.
URL:https://sm4.org/event/grupo-de-jovenes-live-up/2026-03-25/
END:VEVENT
BEGIN:VEVENT
DTSTART;TZID=America/Los_Angeles:20260326T090000
DTEND;TZID=America/Los_Angeles:20260326T100000
DTSTAMP:20260421T050017
CREATED:20240612T171611Z
LAST-MODIFIED:20240612T171743Z
UID:10009863-1774515600-1774519200@sm4.org
SUMMARY:Grupo 260 – Mujeres
DESCRIPTION:¡Únete a nosotros para discutir nuestra lectura bíblica 260! HAZ CLIC AQUÍ para obtener más información sobre el plan 260\, incluyendo un plan de lectura bíblica descargable. \nTenemos varios grupos 260 para elegir. Este grupo esta abierto específicamente para mujeres y está dirigido por Rose Podsednik. Nos reunimos cada jueves a las 9am en la casa de Rose. No es necesario registrarte\, ¡solo únete con nosotros! Para obtener más detalles o preguntas\, HAZ CLIC AQUÍ.
URL:https://sm4.org/event/grupo-260-mujeres-7-2/2026-03-26/
END:VEVENT
BEGIN:VEVENT
DTSTART;TZID=America/Los_Angeles:20260328T170000
DTEND;TZID=America/Los_Angeles:20260328T180000
DTSTAMP:20260421T050017
CREATED:20240612T172156Z
LAST-MODIFIED:20240612T172223Z
UID:10010126-1774717200-1774720800@sm4.org
SUMMARY:Grupos 260 – Todos
DESCRIPTION:¡Únete a nosotros para discutir nuestra lectura bíblica 260! HAZ CLIC AQUÍ para obtener más información sobre el plan 260\, incluyendo un plan de lectura bíblica descargable. \nTenemos varios grupos 260 para elegir. Este grupo esta abierto para todos y está dirigido por Malena Rodriguez. Nos reunimos cada sábado a las 5pm en la casa de Malena. No es necesario registrarte\, ¡solo únete con nosotros! Para obtener más detalles o preguntas\, HAZ CLIC AQUÍ.
URL:https://sm4.org/event/grupos-260-todos-5/2026-03-28/
END:VEVENT
BEGIN:VEVENT
DTSTART;TZID=America/Los_Angeles:20260329T113000
DTEND;TZID=America/Los_Angeles:20260329T130000
DTSTAMP:20260421T050017
CREATED:20230822T225435Z
LAST-MODIFIED:20230822T230040Z
UID:10006129-1774783800-1774789200@sm4.org
SUMMARY:Reunión Los Domingos - Español
DESCRIPTION:¡Únese a nosotros este domingo! Nos reunimos a las 9:30 am en inglés y nuevamente a las 11:30 am en español. Cada semana adoramos con canciones\, estudiamos la Biblia y tenemos la oportunidad de oración personal y ministerio\, ADEMÁS\, tenemos grandes cosas para sus hijos en cada servicio\, desde el nacimiento hasta el sexto grado. \nTenemos tres formas de participar: \n\nAdentro — en nuestro Santuario\nAl aire libre — en nuestro Patio\nEn línea — HAGA CLIC AQUÍ para transmitir en vivo nuestras reuniones o mirar a pedido cuando le convenga\n\nSi se reúne con nosotros en persona\, únase a nosotros antes de nuestros servicios para tomar café y donas. Se sirven de 11:00 a 11:25 am de forma gratuita en el Patio. 🍩+☕️=😁❤️ \nSi es su primera vez con nosotros\, HAGA CLIC AQUÍ para obtener aún más detalles sobre nuestras reuniones\, incluida la forma en que cuidamos a los niños en nuestro ministerio Safari Kids. ¡Estamos deseando conocerte!
URL:https://sm4.org/event/reunion-los-domingos-espanol/2026-03-29/
ATTACH;FMTTYPE=image/jpeg:https://sm4.org/wp-content/uploads/2018/05/05.jpg
END:VEVENT
BEGIN:VEVENT
DTSTART;TZID=America/Los_Angeles:20260401T180000
DTEND;TZID=America/Los_Angeles:20260401T190000
DTSTAMP:20260421T050017
CREATED:20240611T234951Z
LAST-MODIFIED:20240611T235016Z
UID:10009334-1775066400-1775070000@sm4.org
SUMMARY:Oración los Miércoles
DESCRIPTION:Cada Miércoles\, de 6PM a 7PM\, nos reunimos en el Santuario de la iglesia por una hora de oración. Durante esta hora\, estamos clamando a Dios para que mande su fuego sobre nuestros corazones\, nuestros hogares\, nuestra iglesia\, y nuestra region. Unete a nosotros!
URL:https://sm4.org/event/oracion-los-miercoles-2/2026-04-01/
END:VEVENT
BEGIN:VEVENT
DTSTART;TZID=America/Los_Angeles:20260401T180000
DTEND;TZID=America/Los_Angeles:20260401T193000
DTSTAMP:20260421T050017
CREATED:20240611T235436Z
LAST-MODIFIED:20240611T235436Z
UID:10009597-1775066400-1775071800@sm4.org
SUMMARY:Grupo de Jóvenes Live Up
DESCRIPTION:Nuestro grupo de jóvenes\, Live Up\, para estudiantes de grados 7 al 12 están invitados a reunirse cada Miércoles de 6pm-7:30pm. Estas reuniones siempre empiezan con una cena\, juegos divertidos\, oportunidades de ser amigos y conocernos más\, y descubrimientos nuevas acerca de Dios y su palabra y propósito para nuestras vidas. Unete a nosotros cada Miércoles en el cuarto Live Up\, que se encuentra en el edificio atrás de la iglesia\, junto al parque.
URL:https://sm4.org/event/grupo-de-jovenes-live-up/2026-04-01/
END:VEVENT
BEGIN:VEVENT
DTSTART;TZID=America/Los_Angeles:20260402T090000
DTEND;TZID=America/Los_Angeles:20260402T100000
DTSTAMP:20260421T050017
CREATED:20240612T171611Z
LAST-MODIFIED:20240612T171743Z
UID:10009864-1775120400-1775124000@sm4.org
SUMMARY:Grupo 260 – Mujeres
DESCRIPTION:¡Únete a nosotros para discutir nuestra lectura bíblica 260! HAZ CLIC AQUÍ para obtener más información sobre el plan 260\, incluyendo un plan de lectura bíblica descargable. \nTenemos varios grupos 260 para elegir. Este grupo esta abierto específicamente para mujeres y está dirigido por Rose Podsednik. Nos reunimos cada jueves a las 9am en la casa de Rose. No es necesario registrarte\, ¡solo únete con nosotros! Para obtener más detalles o preguntas\, HAZ CLIC AQUÍ.
URL:https://sm4.org/event/grupo-260-mujeres-7-2/2026-04-02/
END:VEVENT
BEGIN:VEVENT
DTSTART;TZID=America/Los_Angeles:20260404T170000
DTEND;TZID=America/Los_Angeles:20260404T180000
DTSTAMP:20260421T050017
CREATED:20240612T172156Z
LAST-MODIFIED:20240612T172223Z
UID:10010127-1775322000-1775325600@sm4.org
SUMMARY:Grupos 260 – Todos
DESCRIPTION:¡Únete a nosotros para discutir nuestra lectura bíblica 260! HAZ CLIC AQUÍ para obtener más información sobre el plan 260\, incluyendo un plan de lectura bíblica descargable. \nTenemos varios grupos 260 para elegir. Este grupo esta abierto para todos y está dirigido por Malena Rodriguez. Nos reunimos cada sábado a las 5pm en la casa de Malena. No es necesario registrarte\, ¡solo únete con nosotros! Para obtener más detalles o preguntas\, HAZ CLIC AQUÍ.
URL:https://sm4.org/event/grupos-260-todos-5/2026-04-04/
END:VEVENT
BEGIN:VEVENT
DTSTART;TZID=America/Los_Angeles:20260405T113000
DTEND;TZID=America/Los_Angeles:20260405T130000
DTSTAMP:20260421T050017
CREATED:20230822T225435Z
LAST-MODIFIED:20230822T230040Z
UID:10006130-1775388600-1775394000@sm4.org
SUMMARY:Reunión Los Domingos - Español
DESCRIPTION:¡Únese a nosotros este domingo! Nos reunimos a las 9:30 am en inglés y nuevamente a las 11:30 am en español. Cada semana adoramos con canciones\, estudiamos la Biblia y tenemos la oportunidad de oración personal y ministerio\, ADEMÁS\, tenemos grandes cosas para sus hijos en cada servicio\, desde el nacimiento hasta el sexto grado. \nTenemos tres formas de participar: \n\nAdentro — en nuestro Santuario\nAl aire libre — en nuestro Patio\nEn línea — HAGA CLIC AQUÍ para transmitir en vivo nuestras reuniones o mirar a pedido cuando le convenga\n\nSi se reúne con nosotros en persona\, únase a nosotros antes de nuestros servicios para tomar café y donas. Se sirven de 11:00 a 11:25 am de forma gratuita en el Patio. 🍩+☕️=😁❤️ \nSi es su primera vez con nosotros\, HAGA CLIC AQUÍ para obtener aún más detalles sobre nuestras reuniones\, incluida la forma en que cuidamos a los niños en nuestro ministerio Safari Kids. ¡Estamos deseando conocerte!
URL:https://sm4.org/event/reunion-los-domingos-espanol/2026-04-05/
ATTACH;FMTTYPE=image/jpeg:https://sm4.org/wp-content/uploads/2018/05/05.jpg
END:VEVENT
BEGIN:VEVENT
DTSTART;TZID=America/Los_Angeles:20260408T180000
DTEND;TZID=America/Los_Angeles:20260408T190000
DTSTAMP:20260421T050017
CREATED:20240611T234951Z
LAST-MODIFIED:20240611T235016Z
UID:10009335-1775671200-1775674800@sm4.org
SUMMARY:Oración los Miércoles
DESCRIPTION:Cada Miércoles\, de 6PM a 7PM\, nos reunimos en el Santuario de la iglesia por una hora de oración. Durante esta hora\, estamos clamando a Dios para que mande su fuego sobre nuestros corazones\, nuestros hogares\, nuestra iglesia\, y nuestra region. Unete a nosotros!
URL:https://sm4.org/event/oracion-los-miercoles-2/2026-04-08/
END:VEVENT
BEGIN:VEVENT
DTSTART;TZID=America/Los_Angeles:20260408T180000
DTEND;TZID=America/Los_Angeles:20260408T193000
DTSTAMP:20260421T050017
CREATED:20240611T235436Z
LAST-MODIFIED:20240611T235436Z
UID:10009598-1775671200-1775676600@sm4.org
SUMMARY:Grupo de Jóvenes Live Up
DESCRIPTION:Nuestro grupo de jóvenes\, Live Up\, para estudiantes de grados 7 al 12 están invitados a reunirse cada Miércoles de 6pm-7:30pm. Estas reuniones siempre empiezan con una cena\, juegos divertidos\, oportunidades de ser amigos y conocernos más\, y descubrimientos nuevas acerca de Dios y su palabra y propósito para nuestras vidas. Unete a nosotros cada Miércoles en el cuarto Live Up\, que se encuentra en el edificio atrás de la iglesia\, junto al parque.
URL:https://sm4.org/event/grupo-de-jovenes-live-up/2026-04-08/
END:VEVENT
BEGIN:VEVENT
DTSTART;TZID=America/Los_Angeles:20260409T090000
DTEND;TZID=America/Los_Angeles:20260409T100000
DTSTAMP:20260421T050017
CREATED:20240612T171611Z
LAST-MODIFIED:20240612T171743Z
UID:10009865-1775725200-1775728800@sm4.org
SUMMARY:Grupo 260 – Mujeres
DESCRIPTION:¡Únete a nosotros para discutir nuestra lectura bíblica 260! HAZ CLIC AQUÍ para obtener más información sobre el plan 260\, incluyendo un plan de lectura bíblica descargable. \nTenemos varios grupos 260 para elegir. Este grupo esta abierto específicamente para mujeres y está dirigido por Rose Podsednik. Nos reunimos cada jueves a las 9am en la casa de Rose. No es necesario registrarte\, ¡solo únete con nosotros! Para obtener más detalles o preguntas\, HAZ CLIC AQUÍ.
URL:https://sm4.org/event/grupo-260-mujeres-7-2/2026-04-09/
END:VEVENT
BEGIN:VEVENT
DTSTART;TZID=America/Los_Angeles:20260411T170000
DTEND;TZID=America/Los_Angeles:20260411T180000
DTSTAMP:20260421T050017
CREATED:20240612T172156Z
LAST-MODIFIED:20240612T172223Z
UID:10010128-1775926800-1775930400@sm4.org
SUMMARY:Grupos 260 – Todos
DESCRIPTION:¡Únete a nosotros para discutir nuestra lectura bíblica 260! HAZ CLIC AQUÍ para obtener más información sobre el plan 260\, incluyendo un plan de lectura bíblica descargable. \nTenemos varios grupos 260 para elegir. Este grupo esta abierto para todos y está dirigido por Malena Rodriguez. Nos reunimos cada sábado a las 5pm en la casa de Malena. No es necesario registrarte\, ¡solo únete con nosotros! Para obtener más detalles o preguntas\, HAZ CLIC AQUÍ.
URL:https://sm4.org/event/grupos-260-todos-5/2026-04-11/
END:VEVENT
BEGIN:VEVENT
DTSTART;TZID=America/Los_Angeles:20260412T113000
DTEND;TZID=America/Los_Angeles:20260412T130000
DTSTAMP:20260421T050017
CREATED:20230822T225435Z
LAST-MODIFIED:20230822T230040Z
UID:10006131-1775993400-1775998800@sm4.org
SUMMARY:Reunión Los Domingos - Español
DESCRIPTION:¡Únese a nosotros este domingo! Nos reunimos a las 9:30 am en inglés y nuevamente a las 11:30 am en español. Cada semana adoramos con canciones\, estudiamos la Biblia y tenemos la oportunidad de oración personal y ministerio\, ADEMÁS\, tenemos grandes cosas para sus hijos en cada servicio\, desde el nacimiento hasta el sexto grado. \nTenemos tres formas de participar: \n\nAdentro — en nuestro Santuario\nAl aire libre — en nuestro Patio\nEn línea — HAGA CLIC AQUÍ para transmitir en vivo nuestras reuniones o mirar a pedido cuando le convenga\n\nSi se reúne con nosotros en persona\, únase a nosotros antes de nuestros servicios para tomar café y donas. Se sirven de 11:00 a 11:25 am de forma gratuita en el Patio. 🍩+☕️=😁❤️ \nSi es su primera vez con nosotros\, HAGA CLIC AQUÍ para obtener aún más detalles sobre nuestras reuniones\, incluida la forma en que cuidamos a los niños en nuestro ministerio Safari Kids. ¡Estamos deseando conocerte!
URL:https://sm4.org/event/reunion-los-domingos-espanol/2026-04-12/
ATTACH;FMTTYPE=image/jpeg:https://sm4.org/wp-content/uploads/2018/05/05.jpg
END:VEVENT
END:VCALENDAR